BEGIN:VCALENDAR
PRODID:-//github.com/rianjs/ical.net//NONSGML ical.net 4.0//EN
VERSION:2.0
BEGIN:VEVENT
DESCRIPTION:The Central University of Technology (CUT) will host its Annua
 l Winter School from 06-10 July at the Welkom Campus\, bringing together 
 researchers\, academics and postgraduate students for a week of knowledge
  exchange\, collaboration and research development.The CUT Winter School 
 serves as an important platform for strengthening the University&rsquo\;s
  research culture. It creates a space where participants can engage with 
 contemporary research topics\, share insights and develop practical strat
 egies that contribute to enhancing research productivity and improving po
 stgraduate completion rates.Guided by the theme &ldquo\;Reinventing Our R
 esearch Landscape: Creating a CUT Above the Best\,&rdquo\; the Winter Sch
 ool will encourage meaningful discussions around research excellence\, su
 pervision practices and innovative approaches to advancing scholarly work
  within the institution and beyond.The programme is designed for mixed pa
 rticipation\, welcoming\, postgraduate students\, academics\, researchers
  and Individuals with an interest in research and postgraduate supervisio
 nThe Winter School will feature interactive engagements and keynote sessi
 ons\, with keynote speakers and facilitators to be confirmed and announce
 d at a later stage.Expected Participants: 150 delegatesRegistration Fee: 
 R1 500 per participantParticipants will be required to deposit the regist
 ration fee into the official CUT account. Payment should include the refe
 rence:Reg 2026 Winter School + Name of DelegateBank:First National BankAc
 count name:Central University of Technology FSAccount number:62538533531A
 ccount type:Cheque accountBranch name:BloemfonteinBranch Code:230134Refer
 ence:GLA 4211and full name and surname
DTEND:20260710T163000
DTSTAMP:20260424T130606Z
DTSTART:20260706T080000
SEQUENCE:0
SUMMARY:3rd Annual Winter School 2026
UID:27e2e004-d02a-424d-a4c2-21c153be1ad8
X-ALT-DESC;FMTTYPE=text/html:<p data-end="498" data-start="231">The Centra
 l University of Technology (CUT) will host its Annual Winter School from 
 06-10 July at the Welkom Campus\, bringing together researchers\, academi
 cs and postgraduate students for a week of knowledge exchange\, collabora
 tion and research development.</p><p data-end="842" data-start="500">The 
 CUT Winter School serves as an important platform for strengthening the U
 niversity&rsquo\;s research culture. It creates a space where participant
 s can engage with contemporary research topics\, share insights and devel
 op practical strategies that contribute to enhancing research productivit
 y and improving postgraduate completion rates.</p><p data-end="1131" data
 -start="844">Guided by the theme &ldquo\;Reinventing Our Research Landsca
 pe: Creating a CUT Above the Best\,&rdquo\; the Winter School will encour
 age meaningful discussions around research excellence\, supervision pract
 ices and innovative approaches to advancing scholarly work within the ins
 titution and beyond.</p><p data-end="1198" data-start="1133">The programm
 e is designed for mixed participation\, welcoming\, postgraduate students
 \, academics\, researchers and Individuals with an interest in research a
 nd postgraduate supervision</p><p data-end="1495" data-start="1328">The W
 inter School will feature interactive engagements and keynote sessions\, 
 with keynote speakers and facilitators to be confirmed and announced at a
  later stage.</p><p data-end="1662" data-start="1515"><br></p><p data-end
 ="1662" data-start="1515">Expected Participants: 150 delegates<br data-st
 art="1615" data-end="1618">Registration Fee: R1 500 per participant</p><p
  data-end="1798" data-start="1664"><br></p><p data-end="1798" data-start=
 "1664">Participants will be required to deposit the registration fee into
  the official CUT account. Payment should include the reference:</p><p da
 ta-end="1845" data-start="1800">Reg 2026 Winter School + Name of Delegate
 </p><p data-end="1845" data-start="1800"><br></p><table border="1" cellpa
 dding="0" cellspacing="0" width="848"><tbody><tr><td valign="top" width="
 32%"><strong>Bank:</strong><br></td><td valign="top" width="67%">First Na
 tional Bank<br></td></tr><tr><td valign="top" width="32%"><strong>Account
  name:</strong><br></td><td valign="top" width="67%">Central University o
 f Technology FS<br></td></tr><tr><td valign="top" width="32%"><strong>Acc
 ount number:</strong><br></td><td valign="top" width="67%">62538533531<br
 ></td></tr><tr><td valign="top" width="32%"><strong>Account type:</strong
 ><br></td><td valign="top" width="67%">Cheque account<br></td></tr><tr><t
 d valign="top" width="32%"><strong>Branch name:</strong><br></td><td vali
 gn="top" width="67%">Bloemfontein<br></td></tr><tr><td valign="top" width
 ="32%"><strong>Branch Code:</strong><br></td><td valign="top" width="67%"
 >230134<br></td></tr><tr><td valign="top" width="32%"><strong>Reference:<
 /strong><br></td><td valign="top" width="67%">GLA 4211<br>and full name a
 nd surname<br></td></tr></tbody></table><p data-end="1917" data-start="18
 47"><br></p><h3 data-end="1935" data-section-id="1hj6ymv" data-start="191
 9"><br></h3>
END:VEVENT
END:VCALENDAR
