BEGIN:VCALENDAR
PRODID:-//github.com/rianjs/ical.net//NONSGML ical.net 4.0//EN
VERSION:2.0
BEGIN:VEVENT
DESCRIPTION:The International Conference on Entrepreneurship and Developme
 nt (ICED) 2026 offers a timely platform for researchers\, practitioners\,
  postgraduate students and policy-makers to explore how entrepreneurship 
 can drive inclusive and sustainable growth across Africa in the digital a
 nd green economy. This year&#39\;s theme reflects the urgent need to harn
 ess innovation\, digital transformation\, and financial technologies to r
 ebuild and reshape entrepreneurial ecosystems post-pandemic.We invite you
  to join us in Durban South Africa\, or online for thought-provoking disc
 ussions\, networking opportunities\, and knowledge exchange that bridge r
 esearch and real-world impact.Conference ObjectivesSupport post-pandemic 
 entrepreneurial recovery across Africa and the Global South.Promote inclu
 sive participation of women\, youth\, and persons with disabilities in en
 trepreneurial ecosystems.Leverage digital transformation\, circular econo
 my\, and financial technologies for inclusive development.Strengthen ecos
 ystem collaboration and cross-sectoral innovation.Explore the transformat
 ive role of AI\, blockchain\, and fintech in entrepreneurship.Important D
 atesDeadlineAbstract openNovember 2025Abstract and Workshop Proposal subm
 ission closes01 March 2026 extended to 31 May 2026Notification of abstrac
 t and Workshop Proposal acceptance10 March 2026 extended to 21 June 2026F
 ull paper submission15 May 2026Conference dates28 to 30 June 2026&nbsp\;N
 ew dates to be announcedThe conference dates will be updated soon.Go to E
 asyChair platform to view the Call for Papers and submit abstracts.Confer
 ence FeesCategoryFee ( ZAR)CategoryPresenting author (1st paper)R5\,000Pr
 esenting author (1st paper)Presenting author (2nd paper)R2\,000Presenting
  author (2nd paper)Student (presenting)R2\,000Student (presenting)Student
  / delegate (attending only)R1\,500Student / delegate (attending only)Pre
 -conference workshopR2\,000Pre-conference workshopPayment method will be 
 updated.A short history of the ICED ConferenceThe International Conferenc
 e on Entrepreneurship Development (ICED) is a prestigious biennial confer
 ence that has established itself as a significant platform for entreprene
 urship research and development in South Africa and beyond. Hosted by the
  Central University of Technology (CUT)\, the conference series began its
  journey in 2017 with the inaugural event that brought together internati
 onal delegates to engage on entrepreneurship development topics. The conf
 erence has successfully been hosted at CUT across multiple editions\, dem
 onstrating the university&#39\;s commitment to fostering entrepreneurial 
 research and international collaboration. Following the inaugural 2017 co
 nference\, subsequent editions were held in 2019\, 2021\, and 2023\, with
  the 2021 conference adapting to global circumstances by being held virtu
 ally\, showcasing the conference&#39\;s resilience and commitment to cont
 inuing academic discourse despite challenges.Throughout its history\, ICE
 D has consistently attracted diverse participation and has contributed si
 gnificantly to the entrepreneurship research landscape\, supporting CUT&#
 39\;s strategic objectives in research and innovation. As the conference 
 series continues to grow and evolve\, ICED 2026 marks a significant miles
 tone with the formation of a consortium of local and international univer
 sities\, comprising DUT\, VUT\, UFH\, NUL\, and Botho University\, joinin
 g forces to increase the global footprint of this premier conference. Thi
 s collaborative approach reflects the conference&#39\;s commitment to exp
 anding its international reach and strengthening partnerships across the 
 academic community while maintaining its biennial tradition of excellence
  in entrepreneurship development.Organising InstitutionsCentral Universit
 y of Technology\, Free State (CUT)\, South AfricaDurban University of Tec
 hnology (DUT)\, South AfricaUniversity of Fort Hare (UFH)\, South AfricaB
 otho University\, BotswanaNational University of Lesotho (NUL)Vaal Univer
 sity of TechnologyBotswana Open University
DTEND:20260630T160000
DTSTAMP:20260424T130621Z
DTSTART:20260628T080000
SEQUENCE:0
SUMMARY:International Conference on Entrepreneurship and Development (ICED
 ) 2026
UID:470048d3-7153-455d-9371-9a8f0fa6a93d
X-ALT-DESC;FMTTYPE=text/html:<p>The International Conference on Entreprene
 urship and Development (ICED) 2026 offers a timely platform for researche
 rs\, practitioners\, postgraduate students and policy-makers to explore h
 ow entrepreneurship can drive inclusive and sustainable growth across Afr
 ica in the digital and green economy. This year&#39\;s theme reflects the
  urgent need to harness innovation\, digital transformation\, and financi
 al technologies to rebuild and reshape entrepreneurial ecosystems post-pa
 ndemic.</p><p>We invite you to join us in Durban South Africa\, or online
  for thought-provoking discussions\, networking opportunities\, and knowl
 edge exchange that bridge research and real-world impact.</p><h3>Conferen
 ce Objectives</h3><ul type="disc"><li>Support post-pandemic entrepreneuri
 al recovery across Africa and the Global South.</li><li>Promote inclusive
  participation of women\, youth\, and persons with disabilities in entrep
 reneurial ecosystems.</li><li>Leverage digital transformation\, circular 
 economy\, and financial technologies for inclusive development.</li><li>S
 trengthen ecosystem collaboration and cross-sectoral innovation.</li><li>
 Explore the transformative role of AI\, blockchain\, and fintech in entre
 preneurship.</li></ul><h3>Important Dates</h3><table border="1" cellpaddi
 ng="0" cellspacing="0" style="margin-right: calc(20%)\; width: 80%\;"><tb
 ody><tr><td valign="top"><br></td><td valign="top"><strong>Deadline</stro
 ng></td></tr><tr><td valign="top">Abstract open</td><td style="text-align
 : right\;" valign="top">November 2025</td></tr><tr><td valign="top">Abstr
 act and Workshop Proposal submission closes</td><td style="text-align: ri
 ght\;" valign="top"><s>01 March 2026</s> extended to 31 May 2026</td></tr
 ><tr><td valign="top">Notification of abstract and Workshop Proposal acce
 ptance</td><td style="text-align: right\;" valign="top"><s>10 March 2026<
 /s> extended to 21 June 2026</td></tr><tr><td valign="top">Full paper sub
 mission</td><td style="text-align: right\;" valign="top">15 May 2026</td>
 </tr><tr><td valign="top">Conference dates</td><td style="text-align: rig
 ht\;" valign="top"><s>28 to 30 June 2026</s>&nbsp\;<br>New dates to be an
 nounced</td></tr></tbody></table><p style=""><strong>The conference dates
  will be updated soon.</strong></p><p>Go to <a href="https://easychair.or
 g/cfp/ICED2026" rel="noopener noreferrer" target="_blank">EasyChair platf
 orm</a> to view the Call for Papers and submit abstracts.</p><h3 style=""
 >Conference Fees</h3><table border="1" cellpadding="0" cellspacing="0"><t
 body><tr><td valign="top"><strong>Category</strong></td><td valign="top">
 <strong>Fee ( ZAR)</strong></td><td><strong>Category</strong></td></tr><t
 r><td valign="top">Presenting author (1st paper)</td><td valign="top">R5\
 ,000</td><td>Presenting author (1st paper)</td></tr><tr><td valign="top">
 Presenting author (2nd paper)</td><td valign="top">R2\,000</td><td>Presen
 ting author (2nd paper)</td></tr><tr><td valign="top">Student (presenting
 )</td><td valign="top">R2\,000</td><td>Student (presenting)</td></tr><tr>
 <td valign="top">Student / delegate (attending only)</td><td valign="top"
 >R1\,500</td><td>Student / delegate (attending only)</td></tr><tr><td val
 ign="top">Pre-conference workshop</td><td valign="top">R2\,000</td><td>Pr
 e-conference workshop</td></tr></tbody></table><p>Payment method will be 
 updated.</p><h2>A short history of the ICED Conference</h2><p><br>The Int
 ernational Conference on Entrepreneurship Development (ICED) is a prestig
 ious biennial conference that has established itself as a significant pla
 tform for entrepreneurship research and development in South Africa and b
 eyond. Hosted by the Central University of Technology (CUT)\, the confere
 nce series began its journey in 2017 with the inaugural event that brough
 t together international delegates to engage on entrepreneurship developm
 ent topics. The conference has successfully been hosted at CUT across mul
 tiple editions\, demonstrating the university&#39\;s commitment to foster
 ing entrepreneurial research and international collaboration. Following t
 he inaugural 2017 conference\, subsequent editions were held in 2019\, 20
 21\, and 2023\, with the 2021 conference adapting to global circumstances
  by being held virtually\, showcasing the conference&#39\;s resilience an
 d commitment to continuing academic discourse despite challenges.<br>Thro
 ughout its history\, ICED has consistently attracted diverse participatio
 n and has contributed significantly to the entrepreneurship research land
 scape\, supporting CUT&#39\;s strategic objectives in research and innova
 tion. As the conference series continues to grow and evolve\, ICED 2026 m
 arks a significant milestone with the formation of a consortium of local 
 and international universities\, comprising DUT\, VUT\, UFH\, NUL\, and B
 otho University\, joining forces to increase the global footprint of this
  premier conference. This collaborative approach reflects the conference&
 #39\;s commitment to expanding its international reach and strengthening 
 partnerships across the academic community while maintaining its biennial
  tradition of excellence in entrepreneurship development.<br><br></p><h3>
 Organising Institutions</h3><p>Central University of Technology\, Free St
 ate (CUT)\, South Africa</p><p><a href="https://www.dut.ac.za/" rel="noop
 ener noreferrer" target="_blank">Durban University of Technology (DUT)</a
 >\, South Africa</p><p><a href="https://www.ufh.ac.za/" rel="noopener nor
 eferrer" target="_blank">University of Fort Hare (UFH)</a>\, South Africa
 </p><p><a href="https://botswana.bothouniversity.com/" rel="noopener nore
 ferrer" target="_blank">Botho University</a>\, Botswana</p><p><a href="ht
 tps://nul.ls/" rel="noopener noreferrer" target="_blank">National Univers
 ity of Lesotho (NUL)</a></p><p><a href="https://vut.ac.za/" rel="noopener
  noreferrer" target="_blank">Vaal University of Technology</a></p><p><a h
 ref="https://www.bou.ac.bw/" rel="noopener noreferrer" target="_blank">Bo
 tswana Open University</a></p>
END:VEVENT
END:VCALENDAR
