BEGIN:VCALENDAR
PRODID:-//github.com/rianjs/ical.net//NONSGML ical.net 4.0//EN
VERSION:2.0
BEGIN:VEVENT
DESCRIPTION:The Entrepreneurship Development in Higher Education (EDHE) is
  launching the third edition of the annual EDHE Entrepreneurship Intervar
 sity. The EDHE Entrepreneurship Intervarsity aims to identify top student
 preneurs at South Africa&rsquo\;s public universities\, recognise and sho
 wcase their businesses and attract investment into their batch of busines
 ses.Entries extended to 14 May 2021.The EDHE Entrepreneurship Intervarsit
 y is open to every registered student at CUT and has the following catego
 ries:Category 1: Business IdeasCategory 2: Existing Business &ndash\; Tec
 hCategory 3: Existing Business &ndash\; Social ImpactCategory 4: Existing
  Business &ndash\; GeneralHow the competition will workStage 1: Registrat
 ion and confirmation of accepted entries (5 April to 5 May 2021).Stage 2:
  Internal Rounds (5 May to 18 June 2021)Stage 3: Regional rounds (5 July 
 to 31 August 2021)Stage 4: National Finals: (1 October to 29 October 2021
 )PrizesThe winner(s) of each category will win R20 000\, andThe overall w
 inner will receive R100 000. Students submit entries here\, https://edhe.
 co.za/intervarsity/For enquiriesContact David Kareli\, kkareli@cut.ac.za
DTEND:20211029T230000
DTSTAMP:20260422T220201Z
DTSTART:20210405T080000
SEQUENCE:0
SUMMARY:Entrepreneurship Development in Higher Education (EDHE) Intervarsi
 ty 2021
UID:1fa3b103-d925-4678-93bd-8a18add941c5
X-ALT-DESC;FMTTYPE=text/html:<p>The Entrepreneurship Development in Higher
  Education (EDHE) is launching the third edition of the annual EDHE Entre
 preneurship Intervarsity. The EDHE Entrepreneurship Intervarsity aims to 
 identify top <strong>studentpreneurs </strong><strong>at South Africa&rsq
 uo\;s public universities</strong>\, recognise and showcase their busines
 ses and attract investment into their batch of businesses.</p><p style=""
 ><strong>Entries extended </strong>to 14 May 2021.</p><p>The EDHE Entrepr
 eneurship Intervarsity is open to every registered student at CUT and has
  the following categories:</p><ul type="disc"><li>Category 1: Business Id
 eas</li><li>Category 2: Existing Business &ndash\; Tech</li><li>Category 
 3: Existing Business &ndash\; Social Impact</li><li>Category 4: Existing 
 Business &ndash\; General</li></ul><p><strong>How the competition will wo
 rk</strong></p><ul type="disc"><li>Stage 1: Registration and confirmation
  of accepted entries (5 April to 5 May 2021).</li><li>Stage 2: Internal R
 ounds (5 May to 18 June 2021)</li><li>Stage 3: Regional rounds (5 July to
  31 August 2021)</li><li>Stage 4: National Finals: (1 October to 29 Octob
 er 2021)</li></ul><p><strong>Prizes</strong></p><ul><li>The winner(s) of 
 each category will win <strong>R20 000</strong>\, and</li><li>The overall
  winner will receive <strong>R100 000. </strong></li></ul><p><strong>Stud
 ents submit entries</strong> here\, <a href="https://protect-za.mimecast.
 com/s/M8-1CElQXpSl5Mk5cNdfIf?domain=edhe.co.za/">https://edhe.co.za/inter
 varsity/</a></p><p><strong>For enquiries</strong></p><p>Contact David Kar
 eli\, <a href="mailto:kkareli@cut.ac.za">kkareli@cut.ac.za</a></p>
END:VEVENT
END:VCALENDAR
